BEGIN:VCALENDAR
VERSION:2.0
PRODID:-//Falls Church News-Press Online - ECPv6.10.1.1//NONSGML v1.0//EN
CALSCALE:GREGORIAN
METHOD:PUBLISH
X-WR-CALNAME:Falls Church News-Press Online
X-ORIGINAL-URL:https://www.fcnp.com
X-WR-CALDESC:Events for Falls Church News-Press Online
REFRESH-INTERVAL;VALUE=DURATION:PT1H
X-Robots-Tag:noindex
X-PUBLISHED-TTL:PT1H
BEGIN:VTIMEZONE
TZID:America/New_York
BEGIN:DAYLIGHT
TZOFFSETFROM:-0500
TZOFFSETTO:-0400
TZNAME:EDT
DTSTART:20250309T070000
END:DAYLIGHT
BEGIN:STANDARD
TZOFFSETFROM:-0400
TZOFFSETTO:-0500
TZNAME:EST
DTSTART:20251102T060000
END:STANDARD
END:VTIMEZONE
BEGIN:VEVENT
DTSTART;TZID=America/New_York:20250210T180000
DTEND;TZID=America/New_York:20250210T190000
DTSTAMP:20260424T203023
CREATED:20250125T014354Z
LAST-MODIFIED:20250210T054209Z
UID:10000380-1739210400-1739214000@www.fcnp.com
SUMMARY:Selling Your Home - Free online seminar
DESCRIPTION:SELLING YOUR HOME Learn about the mistakes to avoid when selling a property\nand ask the experts your questions! If you can’t attend the home seller seminar this month\, don’t worry – we plan to offer it again on the second Monday of every month! Register with kathy@kathypippinproperties.com
URL:https://www.fcnp.com/event/selling-your-home-free-online-seminar/
LOCATION:Virtual
END:VEVENT
BEGIN:VEVENT
DTSTART;TZID=America/New_York:20250210T160000
DTEND;TZID=America/New_York:20250210T180000
DTSTAMP:20260424T203023
CREATED:20250203T035807Z
LAST-MODIFIED:20250210T054211Z
UID:10000443-1739203200-1739210400@www.fcnp.com
SUMMARY:Your Story and More Storytelling Workshop
DESCRIPTION:This 5 week storytelling workshop is for exploring various themes\, styles\, and techniques in personal storytelling\, and beyond. The workshop starts on February 10\, and continues each Monday evening from 7:30pm – 9:30pm\, through March 10th. Details and Registration: https://bettersaidthandone.org
URL:https://www.fcnp.com/event/your-story-and-more-storytelling-workshop/
LOCATION:Virtual
END:VEVENT
BEGIN:VEVENT
DTSTART;TZID=America/New_York:20250207T143000
DTEND;TZID=America/New_York:20250207T160000
DTSTAMP:20260424T203023
CREATED:20250130T025842Z
LAST-MODIFIED:20250207T045646Z
UID:10000420-1738938600-1738944000@www.fcnp.com
SUMMARY:Hydroponics (Vegetables)
DESCRIPTION:Interested in learning how to grow vegetables year-round? Join Extension Master Gardener Intern Joe Larsen to explore the exciting world of hydroponics\, a soil-free method of growing plants using mineral nutrient solutions in water. Free. RSVP at https://mgnv.org/rsvp-for-public-education-classes/ to receive a link to participate.
URL:https://www.fcnp.com/event/hydroponics-vegetables/
LOCATION:Virtual
END:VEVENT
BEGIN:VEVENT
DTSTART;TZID=America/New_York:20250206T183000
DTEND;TZID=America/New_York:20250206T200000
DTSTAMP:20260424T203023
CREATED:20250125T014342Z
LAST-MODIFIED:20250206T044154Z
UID:10000376-1738866600-1738872000@www.fcnp.com
SUMMARY:Folger Shakespeare Library Book Club
DESCRIPTION:Book club returns with Symphony of Secrets by Brendan Slocumb! Dive into this gripping tale of music\, mystery\, and justice as a professor uncovers the truth behind stolen melodies and a long lost opera. Registration required. Register at www.folger.edu
URL:https://www.fcnp.com/event/folger-shakespeare-library-book-club/
LOCATION:Virtual
END:VEVENT
BEGIN:VEVENT
DTSTART;TZID=America/New_York:20250206T050000
DTEND;TZID=America/New_York:20250206T060000
DTSTAMP:20260424T203023
CREATED:20250203T035714Z
LAST-MODIFIED:20250206T044140Z
UID:10000432-1738818000-1738821600@www.fcnp.com
SUMMARY:All Access Book Club
DESCRIPTION:The All Access Book Club meets on the first Thursday of every month at 11:00 a.m. via conference call. February Book: Americanah by Chimamanda Ngozi Adichie. To join the discussion: Call 703-324-1800 or the toll-free number\, 1-877-862-8112. At the prompt\, enter the code 389887#.
URL:https://www.fcnp.com/event/all-access-book-club/
LOCATION:Virtual
END:VEVENT
BEGIN:VEVENT
DTSTART;TZID=America/New_York:20250203T123000
DTEND;TZID=America/New_York:20250203T133000
DTSTAMP:20260424T203023
CREATED:20250125T014323Z
LAST-MODIFIED:20250203T035643Z
UID:10000367-1738585800-1738589400@www.fcnp.com
SUMMARY:Parkinson's Foundation Communication Club
DESCRIPTION:The Club establishes a wellness and prevention program for individuals with Parkinson’s disease and their care partners\, with a focus on maintenance of communication skills. The club is not therapy\, rather\, it is an exercise group designed to improve volume. The approach helps people speak loudly and clearly in order to make themselves heard. Most importantly\, this club is designed in a group setting – one for all and all for one – a team effort to be loud. If people can’t hear you\, they assume you don’t know.  Make your voice heard! Exercise and Socialization is the best medicine for living successfully with Parkinson’s Disease. Exercise your voice as well as your body. This group is appropriate for anyone desiring to improve volume or verbal expression. Register with Kayla Peters at kpeters@kensingtonsl.com 
URL:https://www.fcnp.com/event/parkinsons-foundation-communication-club/
LOCATION:Virtual
END:VEVENT
BEGIN:VEVENT
DTSTART;TZID=America/New_York:20250131T183000
DTEND;TZID=America/New_York:20250131T200000
DTSTAMP:20260424T203023
CREATED:20250125T014301Z
LAST-MODIFIED:20250131T031202Z
UID:10000358-1738348200-1738353600@www.fcnp.com
SUMMARY:Urban Land Institute Technical Assistance Panel
DESCRIPTION:The Urban Land Institute’s TAPs provide expert\, multidisciplinary advice to local governments facing complex land use and real estate issues. Over an intensive two-day working session\, the panelists will tour the study area\, interview stakeholders\, and work collaboratively to produce preliminary findings and recommendations for the study area. This year’s ULI TAP will focus on the Gordon Road Triangle in the west end of the City. The panelists will present their final recommendations over a Zoom link on www.fallschurchva.gov
URL:https://www.fcnp.com/event/urban-land-institute-technical-assistance-panel/
LOCATION:Virtual
END:VEVENT
BEGIN:VEVENT
DTSTART;TZID=America/New_York:20250131T100000
DTEND;TZID=America/New_York:20250131T113000
DTSTAMP:20260424T203023
CREATED:20250117T234520Z
LAST-MODIFIED:20250131T031141Z
UID:10000335-1738317600-1738323000@www.fcnp.com
SUMMARY:Winter Sowing by Master Gardeners of NoVA
DESCRIPTION:Discover the art of winter sowing with Extension Master Gardener Jasmin DeCourcey! In this class\, we’ll explore an innovative and low-cost method of starting seeds outdoors during winter\, using recycled containers as mini greenhouses. Perfect for gardeners of all levels\, winter sowing is an ideal way to jump-start your garden with hardy\, robust plants that thrive come spring. Learn how to select the best seeds\, set up and prepare containers\, and time your sowing to take advantage of nature’s cycles. By the end of the class\, you’ll be ready to grow a wide range of flowers\, vegetables\, and herbs from scratch\, all while saving money and minimizing your ecological footprint. Embrace this unique approach and let your garden grow naturally – even in the coldest months! Free. RSVP at https://mgnv.org/rsvp-for-public-education-classes to receive a link to participate.
URL:https://www.fcnp.com/event/winter-sowing-by-master-gardeners-of-nova/
LOCATION:Virtual
END:VEVENT
BEGIN:VEVENT
DTSTART;TZID=America/New_York:20250128T190000
DTEND;TZID=America/New_York:20250128T210000
DTSTAMP:20260424T203023
CREATED:20250117T234457Z
LAST-MODIFIED:20250128T022649Z
UID:10000326-1738090800-1738098000@www.fcnp.com
SUMMARY:Great Books Discussion Series
DESCRIPTION:A “Great Books” discussion concentrating on literary classics (both traditional and modern) usually meeting at 7 p.m. on the 2nd and 4th Tuesday of each month.  The group will discuss “In a Grove\,” by Ryūnosuke Akutagawa (1922). Pages 3–11 (ending with “Beyond this was only darkness…unknowing and unknown”). “In a Grove” was the basis for Akira Kurosawa’s 1950s film\, Rashomon. All are welcome. Please email Amy Azzam at amyazzam@gmail.com (the group’s volunteer coordinator) for a Zoom invite or more information. 
URL:https://www.fcnp.com/event/great-books-discussion-series/
LOCATION:Virtual
END:VEVENT
BEGIN:VEVENT
DTSTART;TZID=America/New_York:20250124T100000
DTEND;TZID=America/New_York:20250124T113000
DTSTAMP:20260424T203023
CREATED:20250117T234424Z
LAST-MODIFIED:20250124T012644Z
UID:10000310-1737712800-1737718200@www.fcnp.com
SUMMARY:Use of Oil Sprays to Control Overwintering Insects
DESCRIPTION:By Master Gardeners of NoVa: Scale insects\, mites\, and adelgid insects are among the most injurious and most common insect pests in our landscape that can be controlled with low-impact horticultural oil sprays. Learn about these sap sucking insects\, their particular host plants\, their life cycles\, and optimal timing and methods for controlling them. Find out how you can work with and encourage natural predators and reduce pesticide use to keep your landscape plants healthy and free of these pests. Free. RSVP at https://mgnv.org/rsvp-for-public-education-classes to receive a link to participate.
URL:https://www.fcnp.com/event/use-of-oil-sprays-to-control-overwintering-insects/
LOCATION:Virtual
END:VEVENT
BEGIN:VEVENT
DTSTART;TZID=America/New_York:20250121T183000
DTEND;TZID=America/New_York:20250121T193000
DTSTAMP:20260424T203023
CREATED:20250116T211429Z
LAST-MODIFIED:20250121T003703Z
UID:10000033-1737484200-1737487800@www.fcnp.com
SUMMARY:Learn More about the Junior League of Northern Virginia
DESCRIPTION:The Junior League of Northern Virginia is a dynamic group of women whose mission is to advance women’s leadership for meaningful community impact through volunteer action\, collaboration\, and training. Want to learn more about becoming a member? Join one of our upcoming virtual information sessions! Visit www.jlnv.org/membership/how-to-join/
URL:https://www.fcnp.com/event/learn-more-about-the-junior-league-of-northern-virginia/
LOCATION:Virtual
END:VEVENT
BEGIN:VEVENT
DTSTART;TZID=America/New_York:20250121T170000
DTEND;TZID=America/New_York:20250121T173000
DTSTAMP:20260424T203023
CREATED:20250116T211425Z
LAST-MODIFIED:20250121T003657Z
UID:10000031-1737478800-1737480600@www.fcnp.com
SUMMARY:Gretchen W. Rogers' Five O'Clock
DESCRIPTION:Join us as we sketch inspired by Gretchen W. Rogers’ Five O’Clock. National Gallery of Art teaching artists lead free\, 30-minute sketches inspired by works of art from the National Gallery’s collection. Add new drawings to your sketchbook or just doodle along with us as we explore a different prompt each session. All you need are a pencil and paper. We encourage you to bring colored pencils\, crayons\, markers\, or paints as well\, but these are optional. Sketchbook Club is recommended for families with children of all ages. Free but registration is required. Register at www.nga.gov.
URL:https://www.fcnp.com/event/gretchen-w-rogers-five-oclock/
LOCATION:Virtual
END:VEVENT
BEGIN:VEVENT
DTSTART;TZID=America/New_York:20250120T150000
DTEND;TZID=America/New_York:20250120T160000
DTSTAMP:20260424T203023
CREATED:20250116T211413Z
LAST-MODIFIED:20250120T001141Z
UID:10000026-1737385200-1737388800@www.fcnp.com
SUMMARY:Parkinson's Foundation Communications Club
DESCRIPTION:The Club establishes a wellness and prevention program for individuals with Parkinson’s disease and their care partners\, with a focus on maintenance of communication skills. The club is not therapy\, rather\, it is an exercise group designed to improve volume. The approach helps people speak loudly and clearly in order to make themselves heard. Contact Information: Kayla Peters at kpeters@kensingtonsl.com
URL:https://www.fcnp.com/event/parkinsons-foundation-communications-club/
LOCATION:Virtual
END:VEVENT
BEGIN:VEVENT
DTSTART;TZID=America/New_York:20250117T130000
DTEND;TZID=America/New_York:20250117T140000
DTSTAMP:20260424T203023
CREATED:20250116T211327Z
LAST-MODIFIED:20250116T232644Z
UID:10000004-1737118800-1737122400@www.fcnp.com
SUMMARY:Gérard Valcin\, RaRaband
DESCRIPTION:Gérard Valcin’s RaRaband is the inspiration for this interactive conversation. Join us for a one-hour virtual session and share your observations\, interpretations\, questions\, and ideas about this work of art. These conversations will encourage you to engage deeply with art\, with others\, and with the world around you as you hone skills in visual literacy and perspective-taking. The program is free\, open to the public\, and is designed for everyone interested in talking about art. No art or art history background is required. Ages 18 and over. Register at www.nga.gov
URL:https://www.fcnp.com/event/gerard-valcin-raraband/
LOCATION:Virtual
END:VEVENT
END:VCALENDAR