BEGIN:VCALENDAR
VERSION:2.0
PRODID:-//Falls Church News-Press Online - ECPv6.10.1.1//NONSGML v1.0//EN
CALSCALE:GREGORIAN
METHOD:PUBLISH
X-ORIGINAL-URL:https://www.fcnp.com
X-WR-CALDESC:Events for Falls Church News-Press Online
REFRESH-INTERVAL;VALUE=DURATION:PT1H
X-Robots-Tag:noindex
X-PUBLISHED-TTL:PT1H
BEGIN:VTIMEZONE
TZID:America/New_York
BEGIN:DAYLIGHT
TZOFFSETFROM:-0500
TZOFFSETTO:-0400
TZNAME:EDT
DTSTART:20250309T070000
END:DAYLIGHT
BEGIN:STANDARD
TZOFFSETFROM:-0400
TZOFFSETTO:-0500
TZNAME:EST
DTSTART:20251102T060000
END:STANDARD
END:VTIMEZONE
BEGIN:VEVENT
DTSTART;TZID=America/New_York:20250425T100000
DTEND;TZID=America/New_York:20250425T113000
DTSTAMP:20260422T062550
CREATED:20250313T042656Z
LAST-MODIFIED:20250318T063058Z
UID:10000702-1745575200-1745580600@www.fcnp.com
SUMMARY:Preventing Tickborne Diseases
DESCRIPTION:Ticks can be tiny and hard to spot\, and bites from these arachnids can be irritating and harmful to your health as they can transmit serious diseases\, including Lyme disease\, the Alpha-gal food allergy\, and Rocky Mountain spotted fever. Ahead of the spring planting and gardening season\, join Elizabeth Forrey\, Tick Surveillance Coordinator for the Virginia Department of Health\, for a timely presentation on the ecology of tickborne diseases in Virginia with a discussion of several tick species and important tips on tick bite prevention. FREE. RSVP at https://mgnv.org/rsvp-for-public-education-classes/ to receive a link to participate.
URL:https://www.fcnp.com/event/preventing-tickborne-diseases/
LOCATION:Virtual
END:VEVENT
BEGIN:VEVENT
DTSTART;TZID=America/New_York:20250411T100000
DTEND;TZID=America/New_York:20250411T113000
DTSTAMP:20260422T062550
CREATED:20250313T042649Z
LAST-MODIFIED:20250318T063040Z
UID:10000700-1744365600-1744371000@www.fcnp.com
SUMMARY:Botanical Journaling: Combine Art and Science for Plant Identification
DESCRIPTION:Explore artful techniques in plant identification throughout the changing seasons with Extension Master Gardener Mary Jennings. She will cover the purpose of botanical journaling: combining scientific observations with artistic documentation. The presentation will review the historical context and the benefits for both Extension Master Gardeners and home gardeners with improved identification skills\, detailed record-keeping\, and a deeper understanding of plant life cycles. FREE. RSVP online at https://mgnv.org/rsvp-for-public-education-classes/ to receive a link to participate.
URL:https://www.fcnp.com/event/botanical-journaling-combine-art-and-science-for-plant-identification/
LOCATION:Virtual
END:VEVENT
BEGIN:VEVENT
DTSTART;TZID=America/New_York:20250404T100000
DTEND;TZID=America/New_York:20250404T113000
DTSTAMP:20260422T062550
CREATED:20250313T042555Z
LAST-MODIFIED:20250318T062956Z
UID:10000699-1743760800-1743766200@www.fcnp.com
SUMMARY:Houseplants 101
DESCRIPTION:Interested in bringing your gardening hobby indoors or looking to add a little green to your space? Join Extension Master Gardeners Evin Morrison and Rebecca Secula to learn about getting plants to thrive in your home. Evin and Rebecca cover a variety of topics including ideal lighting conditions\, potting soil recipes\, and how to deal with pests. This presentation is geared toward the beginner houseplant owner but will be a great refresher for anyone looking to make their houseplant ventures more successful. FREE. RSVP online at https://mgnv.org/rsvp-for-public-education-classes/ to receive the link to participate.
URL:https://www.fcnp.com/event/houseplants-101/
LOCATION:Virtual
END:VEVENT
BEGIN:VEVENT
DTSTART;TZID=America/New_York:20250403T183000
DTEND;TZID=America/New_York:20250403T193000
DTSTAMP:20260422T062550
CREATED:20250311T034550Z
LAST-MODIFIED:20250318T062951Z
UID:10000691-1743705000-1743708600@www.fcnp.com
SUMMARY:Folger Book Club: Twelfth Knight
DESCRIPTION:Twelfth Knight\, a young adult romantic comedy inspired by Shakespeare’s Twelfth Night. Free event. Registration required at www.folger.edu.
URL:https://www.fcnp.com/event/folger-book-club-twelfth-knight/
LOCATION:Virtual
END:VEVENT
BEGIN:VEVENT
DTSTART;TZID=America/New_York:20250325T170000
DTEND;TZID=America/New_York:20250325T173000
DTSTAMP:20260422T062550
CREATED:20250317T055920Z
LAST-MODIFIED:20250318T062858Z
UID:10000748-1742922000-1742923800@www.fcnp.com
SUMMARY:Sketchbook Club
DESCRIPTION:This is one club where you don’t need a membership to join! National Gallery of Art teaching artists lead free\, 30-minute sketches inspired by works of art from the National Gallery’s collection. Add new drawings to your sketchbook or just doodle along with us as we explore a different prompt each session. All you need are a pencil and paper. We encourage you to bring colored pencils\, crayons\, markers\, or paints as well\, but these are optional. Sketchbook Club is recommended for families with children of all ages. Registration required at www.nga.gov/calendar.
URL:https://www.fcnp.com/event/sketchbook-club/
LOCATION:Virtual
END:VEVENT
BEGIN:VEVENT
DTSTART;TZID=America/New_York:20250325T100000
DTEND;TZID=America/New_York:20250325T130000
DTSTAMP:20260422T062550
CREATED:20250314T044507Z
LAST-MODIFIED:20250318T062856Z
UID:10000719-1742896800-1742907600@www.fcnp.com
SUMMARY:Quinn's Auction Galleries Netsuke Auction
DESCRIPTION:Quinn’s Auction Galleries is proud to present our Netsuke Auction. Featuring netsuke\, kashira\, fuchi\, kozuka\, and menuki. Register at https://quinnsauction.hibid.com/auction/625396/netsuke-auction-03-25-2025
URL:https://www.fcnp.com/event/quinns-auction-galleries-netsuke-auction/
LOCATION:Virtual
END:VEVENT
BEGIN:VEVENT
DTSTART;TZID=America/New_York:20250322T100000
DTEND;TZID=America/New_York:20250322T110000
DTSTAMP:20260422T062550
CREATED:20250317T055824Z
LAST-MODIFIED:20250318T062806Z
UID:10000741-1742637600-1742641200@www.fcnp.com
SUMMARY:Becoming a Junior League Northern Virginia Member
DESCRIPTION:Learn about becoming a member of the Junior League of Northern Virginia (JLNV)\, a dynamic group of women whose mission is to advance women’s leadership for meaningful community impact through volunteer action\, collaboration\, and training. For link to program https://vms.ajli.org/?nd=vms_public_form&form_id=1004560
URL:https://www.fcnp.com/event/becoming-a-junior-league-northern-virginia-member/
LOCATION:Virtual
END:VEVENT
BEGIN:VEVENT
DTSTART;TZID=America/New_York:20250320T190000
DTEND;TZID=America/New_York:20250320T200000
DTSTAMP:20260422T062550
CREATED:20250314T044422Z
LAST-MODIFIED:20250318T062749Z
UID:10000711-1742497200-1742500800@www.fcnp.com
SUMMARY:Kindergarten VIRTUAL Information Night
DESCRIPTION:Mount Daniel’s Principal and staff will present a Kindergarten Information Night for parents of prospective kindergarten students. A brief overview of the school day\, curriculum\, day care program\, and registration requirements. Please pass this information along to new neighbors and friends. Call (703) 248-5644\, or email Nora Pishner at pishnern@fccps.org with any questions.
URL:https://www.fcnp.com/event/kindergarten-virtual-information-night/
LOCATION:Virtual
END:VEVENT
BEGIN:VEVENT
DTSTART;TZID=America/New_York:20250320T183000
DTEND;TZID=America/New_York:20250320T193000
DTSTAMP:20260422T062550
CREATED:20250317T055741Z
LAST-MODIFIED:20250318T062745Z
UID:10000734-1742495400-1742499000@www.fcnp.com
SUMMARY:Living Wild | Plant Styling with Hilton Carter
DESCRIPTION:Join plant and interior stylist\, author\, and artist Hilton Carter in this exciting presentation. Hilton will walk the audience through some of his favorite places he’s plant styled\, how he goes about his process\, some of his favorite plants\, and so much more. He will also share practical tips and tricks about the art of propagating houseplants\, allowing you to grow your plant collection! Ticket and link for virtual access at https://hillwoodmuseum.org/events. Tickets: $10.00
URL:https://www.fcnp.com/event/living-wild-plant-styling-with-hilton-carter/
LOCATION:Virtual
END:VEVENT
BEGIN:VEVENT
DTSTART;TZID=America/New_York:20250318T100000
DTEND;TZID=America/New_York:20250318T130000
DTSTAMP:20260422T062550
CREATED:20250311T034505Z
LAST-MODIFIED:20250318T062643Z
UID:10000685-1742292000-1742302800@www.fcnp.com
SUMMARY:Quinn's Auction Galleries 2021 Mazda CX-30 Auction
DESCRIPTION:Quinn’s Auction Galleries presents this 2021 Mazda CX-30 Auto Auction. This low mileage vehicle starts and run without issue. Please note 25% buyers premium for our auction. Payments accepted: bankers check\, cashiers check\, cash\, or money order. Must clear before pickup. Please email lori.taylor@quinnsauction.com for any payment questions. Email weekly@quinnsauction.com to schedule a preview appointment. Request link at www.quinnsauction.com
URL:https://www.fcnp.com/event/quinns-auction-galleries-2021-mazda-cx-30-auction/
LOCATION:Virtual
END:VEVENT
BEGIN:VEVENT
DTSTART;TZID=America/New_York:20250318T100000
DTEND;TZID=America/New_York:20250318T120000
DTSTAMP:20260422T062550
CREATED:20250311T034503Z
LAST-MODIFIED:20250318T062655Z
UID:10000684-1742292000-1742299200@www.fcnp.com
SUMMARY:Quinn's Auction Galleries 2003 Honda Civic EX Manual Auction
DESCRIPTION:Quinn’s Auction Galleries presents this 2003 Honda Civic Auto Auction. This vehicle is a MANUAL TRANSMISSION\, and starts and drives without issue. Please note 25% buyers premium for our auction. Payments accepted: bankers check\, cashiers check\, cash\, or money order. Must clear before pickup. Please email lori.taylor@quinnsauction.com for any payment questions. Email weekly@quinnsauction.com to schedule a preview appointment.  Request link at www.quinnsauction.com.
URL:https://www.fcnp.com/event/quinns-auction-galleries-2003-honda-civic-ex-manual-auction/
LOCATION:Virtual
END:VEVENT
BEGIN:VEVENT
DTSTART;TZID=America/New_York:20250318T100000
DTEND;TZID=America/New_York:20250318T110000
DTSTAMP:20260422T062550
CREATED:20250311T034458Z
LAST-MODIFIED:20250318T062650Z
UID:10000682-1742292000-1742295600@www.fcnp.com
SUMMARY:Quinn's Auction Galleries Fine Jewelry Auction
DESCRIPTION:Quinn’s Auction Galleries is proud to present our Fine Jewelry Auction. Featuring an array of beautifully crafted women’s and men’s jewelry and watches. First lot closing at 11:00am Eastern\, 27% Buyer’s Premium. Credit card charges are subject to approval for high value invoices. Invoices over $2000.00 require bank wire\, check or money order payment. Request link at www.quinnsauction.com \nJoin with Google Meet: https://meet.google.com/kew-dmzi-mmg\nOr dial: (US) +1 541-900-5026 PIN: 476071613#\nMore phone numbers: https://tel.meet/kew-dmzi-mmg?pin=7015444389296&hs=7\nLearn more about Meet at: https://support.google.com/a/users/answer/9282720
URL:https://www.fcnp.com/event/quinns-auction-galleries-fine-jewelry-auction-2/
LOCATION:Virtual
END:VEVENT
BEGIN:VEVENT
DTSTART;TZID=America/New_York:20250317T150000
DTEND;TZID=America/New_York:20250317T160000
DTSTAMP:20260422T062550
CREATED:20250311T034413Z
LAST-MODIFIED:20250317T061111Z
UID:10000674-1742223600-1742227200@www.fcnp.com
SUMMARY:Parkinson's Foundation Communication Club
DESCRIPTION:The Parkinson’s Communication’s Club establishes a wellness and prevention program for individuals with Parkinson’s disease and their care partners\, with a focus on maintenance of communication skills. The club is not therapy\, rather\, it is an exercise group designed to improve volume. The approach helps people speak loudly and clearly in order to make themselves heard. Most importantly\, this club is designed in a group setting – one for all and all for one – a team effort to be loud. If people can’t hear you\, they assume you don’t know.  Make your voice heard! Exercise and Socialization is the best medicine for living successfully with Parkinson’s Disease. Exercise your voice as well as your body. This group is appropriate for anyone desiring to improve volume or verbal expression. Ask for link at kpeters@kensingtonsl.com.
URL:https://www.fcnp.com/event/parkinsons-foundation-communication-club-3/
LOCATION:Virtual
END:VEVENT
BEGIN:VEVENT
DTSTART;TZID=America/New_York:20250314T133000
DTEND;TZID=America/New_York:20250314T153000
DTSTAMP:20260422T062550
CREATED:20250311T034252Z
LAST-MODIFIED:20250314T044149Z
UID:10000649-1741959000-1741966200@www.fcnp.com
SUMMARY:Quinn's In-Home Online Art Auction
DESCRIPTION:This auction features some Large framed original and reproduction oil painting on canvas. Register at www.quinnsauction.com
URL:https://www.fcnp.com/event/quinns-in-home-online-art-auction/
LOCATION:Virtual
END:VEVENT
BEGIN:VEVENT
DTSTART;TZID=America/New_York:20250314T100000
DTEND;TZID=America/New_York:20250314T113000
DTSTAMP:20260422T062550
CREATED:20250214T064402Z
LAST-MODIFIED:20250314T044144Z
UID:10000517-1741946400-1741951800@www.fcnp.com
SUMMARY:Harvest at Home: Mastering Vegetable Gardening in Containers
DESCRIPTION:In this session\, attendees will learn the essentials of vegetable container gardening\, including how to choose the right containers\, soil\, and plant varieties for a successful vegetable harvest at home. Extension Master Gardener Benton Murphy will cover practical tips for maximizing space\, managing water and sunlight\, and addressing common challenges like pests and plant diseases. By the end of the session\, participants will have the knowledge and confidence to start their own thriving container vegetable garden\, no matter how limited their outdoor space. FREE. RSVP online at https://mgnv.org/rsvp-for-public-education-classes/ to receive the link to participate.
URL:https://www.fcnp.com/event/harvest-at-home-mastering-vegetable-gardening-in-containers/
LOCATION:Virtual
END:VEVENT
BEGIN:VEVENT
DTSTART;TZID=America/New_York:20250311T183000
DTEND;TZID=America/New_York:20250311T200000
DTSTAMP:20260422T062550
CREATED:20250305T021257Z
LAST-MODIFIED:20250311T034202Z
UID:10000612-1741717800-1741723200@www.fcnp.com
SUMMARY:Virtual Social Media Panel for Teens and Parents
DESCRIPTION:A Free Virtual Parent Café\, will feature a Social Media Panel for Teens and Parents. This panel of young adults will share their experiences navigating social media as teenagers. Panelists will discuss lessons learned about social media\, the positive and negative impacts on their well-being\, and what they thought their parents did well\, or did not do well in monitoring their social media access. All FCCPS families and teens are welcome to attend this interactive online panel discussion. To register email buildingstrongerfamilies@fairfaxcounty.gov.
URL:https://www.fcnp.com/event/virtual-social-media-panel-for-teens-and-parents/
LOCATION:Virtual
END:VEVENT
BEGIN:VEVENT
DTSTART;TZID=America/New_York:20250311T120000
DTEND;TZID=America/New_York:20250311T130000
DTSTAMP:20260422T062550
CREATED:20250305T021252Z
LAST-MODIFIED:20250311T034154Z
UID:10000611-1741694400-1741698000@www.fcnp.com
SUMMARY:Quinn's Auction Galleries March Shelf Lot Books Auction
DESCRIPTION:In person open preview beginning March\, 4th and ending March 10th\, 10:30 AM – 5:00 PM EST. If you would like to make an appointment or have questions please contact  diana@Quinnsauction.com. Preview at 360 S. Washington St.\, Falls Church\, VA  22046
URL:https://www.fcnp.com/event/quinns-auction-galleries-march-shelf-lot-books-auction/
LOCATION:Virtual
END:VEVENT
BEGIN:VEVENT
DTSTART;TZID=America/New_York:20250310T150000
DTEND;TZID=America/New_York:20250310T160000
DTSTAMP:20260422T062550
CREATED:20250305T021239Z
LAST-MODIFIED:20250310T032640Z
UID:10000606-1741618800-1741622400@www.fcnp.com
SUMMARY:Parkinson's Foundation Communication Club
DESCRIPTION:The Parkinson’s Communication’s Club is held every Monday and led by Susan I. Wranik\, Board Certified Speech-Language Pathologist. The Club establishes a wellness and prevention program for individuals with Parkinson’s disease and their care partners\, with a focus on maintenance of communication skills. The club is not therapy\, rather\, it is an exercise group designed to improve volume. The approach helps people speak loudly and clearly in order to make themselves heard. Most importantly\, this club is designed in a group setting – one for all and all for one – a team effort to be loud. If people can’t hear you\, they assume you don’t know.  Make your voice heard! Exercise and Socialization is the best medicine for living successfully with Parkinson’s Disease. Exercise your voice as well as your body. This group is appropriate for anyone desiring to improve volume or verbal expression. To register email kpeters@kensingtonsl.com.
URL:https://www.fcnp.com/event/parkinsons-foundation-communication-club-2/
LOCATION:Virtual
END:VEVENT
BEGIN:VEVENT
DTSTART;TZID=America/New_York:20250308T100000
DTEND;TZID=America/New_York:20250308T110000
DTSTAMP:20260422T062550
CREATED:20250305T021213Z
LAST-MODIFIED:20250307T030222Z
UID:10000601-1741428000-1741431600@www.fcnp.com
SUMMARY:Learn more about the Junior League of Northern Virginia
DESCRIPTION:Learn about becoming a member of the Junior League of Northern Virginia (JLNV)\, a dynamic group of women whose mission is to advance women’s leadership for meaningful community impact through volunteer action\, collaboration\, and training. Register for virtual link at https://vms.ajli.org/?nd=vms_public_form&form_id=1004559.
URL:https://www.fcnp.com/event/learn-more-about-the-junior-league-of-northern-virginia-2/
LOCATION:Virtual
END:VEVENT
BEGIN:VEVENT
DTSTART;TZID=America/New_York:20250307T100000
DTEND;TZID=America/New_York:20250307T113000
DTSTAMP:20260422T062550
CREATED:20250214T064346Z
LAST-MODIFIED:20250307T030214Z
UID:10000516-1741341600-1741347000@www.fcnp.com
SUMMARY:Landscape Design: Form Follows (Multi) Function
DESCRIPTION:How can you transform your outdoor space into a welcoming haven while being a champion for your local ecosystems? Join Extension Master Gardener Lynda Ramirez-Blust for an exciting journey into the art and science of landscape design! Discover the foundational principles and step-by-step process for creating vibrant\, multifunctional landscapes that improve water and soil quality\, reduce stormwater runoff\, restore and support pollinator habitats\, enrich the tree canopy\, and provide sanctuary for wildlife\, all while creating a joyful\, functional space for you and your family to enjoy. Whether you’re a novice or a seasoned gardener\, this session will equip you with the confidence you need to craft thriving\, sustainable landscapes that nurture both nature and your outdoor experience. FREE. RSVP online at https://mgnv.org/rsvp-for-public-education-classes/ to receive the link to participate
URL:https://www.fcnp.com/event/landscape-design-form-follows-multi-function/
LOCATION:Virtual
END:VEVENT
BEGIN:VEVENT
DTSTART;TZID=America/New_York:20250306T140000
DTEND;TZID=America/New_York:20250306T150000
DTSTAMP:20260422T062550
CREATED:20250304T015705Z
LAST-MODIFIED:20250306T025201Z
UID:10000592-1741269600-1741273200@www.fcnp.com
SUMMARY:New Yorker Discussion Group
DESCRIPTION:Enjoy reading The New Yorker but wish you had someone to chat about it with? Drop into the monthly New Yorker Discussion Group to share your thoughts on what you’ve read in a variety of articles. The group meets on the first Thursday of the month from 2-3.
URL:https://www.fcnp.com/event/new-yorker-discussion-group-2/
LOCATION:Virtual
END:VEVENT
BEGIN:VEVENT
DTSTART;TZID=America/New_York:20250303T180000
DTEND;TZID=America/New_York:20250303T190000
DTSTAMP:20260422T062550
CREATED:20250224T234348Z
LAST-MODIFIED:20250303T014146Z
UID:10000578-1741024800-1741028400@www.fcnp.com
SUMMARY:Buying a Home (Free\, Online Educational Seminar)
DESCRIPTION:Free\, online\, educational seminar about how to buy a home. Learn about the mistakes to avoid when buying a property and ask the experts your questions! If you can’t attend the home buyer seminar this month\, don’t worry – we plan to offer it again on the first Monday of every month! Register at kathy@kathypippinproperties.com
URL:https://www.fcnp.com/event/buying-a-home-free-online-educational-seminar/
LOCATION:Virtual
END:VEVENT
BEGIN:VEVENT
DTSTART;TZID=America/New_York:20250228T190000
DTEND;TZID=America/New_York:20250228T203000
DTSTAMP:20260422T062550
CREATED:20250202T034328Z
LAST-MODIFIED:20250218T215934Z
UID:10000430-1740769200-1740774600@www.fcnp.com
SUMMARY:Native Spring Ephemerals
DESCRIPTION:While they bloom for only a short time\, ephemerals such as Bloodroot\, Trout Lily\, and Virginia Bluebells can add beauty to the home garden in spring while providing critical support to early-emerging pollinators. Join Extension Master Gardener Elaine Mills for a greatly updated presentation on 23 ephemeral species native to the Mid-Atlantic with a discussion of their special adaptations for success\, their use in landscape design\, and their care. Free. RSVP at https://mgnv.org/rsvp-for-public-education-classes  to receive a link to participate.
URL:https://www.fcnp.com/event/native-spring-ephemerals/
LOCATION:Virtual
END:VEVENT
BEGIN:VEVENT
DTSTART;TZID=America/New_York:20250228T100000
DTEND;TZID=America/New_York:20250228T113000
DTSTAMP:20260422T062550
CREATED:20250220T222926Z
LAST-MODIFIED:20250228T004158Z
UID:10000551-1740736800-1740742200@www.fcnp.com
SUMMARY:Native Spring Ephemerals
DESCRIPTION:While they bloom for only a short time\, ephemerals such as Bloodroot\, Trout Lily\, and Virginia Bluebells can add beauty to the home garden in spring while providing critical support to early-emerging pollinators. Join Extension Master Gardener Elaine Mills for a greatly updated presentation on 23 ephemeral species native to the Mid-Atlantic with a discussion of their special adaptations for success\, their use in landscape design\, and their care. Free. RSVP at https://mgnv.org/rsvp-for-public-education-classes to receive a link to participate.
URL:https://www.fcnp.com/event/native-spring-ephemerals-2/
LOCATION:Virtual
END:VEVENT
BEGIN:VEVENT
DTSTART;TZID=America/New_York:20250227T100000
DTEND;TZID=America/New_York:20250227T120000
DTSTAMP:20260422T062550
CREATED:20250224T234222Z
LAST-MODIFIED:20250227T002647Z
UID:10000560-1740650400-1740657600@www.fcnp.com
SUMMARY:﻿Value Proposition Design for Businesses
DESCRIPTION:Small Business Development Center of Virginia presents Senior Business Counselor and Adjunct GMU Professor George Siragusa who will guide businesses through a step-by-step process of building your Value Proposition Design (VPD) which is invaluable to startups\, early-stage companies\, growth\, or even mature businesses! Participants will learn the 3 specific benefits it brings to a business\, learn the 8 steps to building and refining a VPD for a business\, learn how it can impact and inform your communication tactics and strategy\, and more. The meeting link will be shared upon registration. https://clients.virginiasbdc.org/workshop.aspx?ekey=110450005
URL:https://www.fcnp.com/event/value-proposition-design-for-businesses/
LOCATION:Virtual
END:VEVENT
BEGIN:VEVENT
DTSTART;TZID=America/New_York:20250225T190000
DTEND;TZID=America/New_York:20250225T210000
DTSTAMP:20260422T062550
CREATED:20250218T215904Z
LAST-MODIFIED:20250226T001103Z
UID:10000542-1740510000-1740517200@www.fcnp.com
SUMMARY:Great Books Discussion Series
DESCRIPTION:The group will discuss The Founders of Geology\, by Sir Archibald Geikie (1897). “Lecture IV: Rise of the Modern Conception of the Theory of the Earth: James Hutton and John Playfair\,” pp. 150–183. (Moderator to distribute text via e-mail.) This program will be held virtually on Zoom. Please email Amy Azzam at amyazzam@gmail.com  (the group’s volunteer coordinator) for a Zoom invite or more information. 
URL:https://www.fcnp.com/event/great-books-discussion-series-3/
LOCATION:Virtual
END:VEVENT
BEGIN:VEVENT
DTSTART;TZID=America/New_York:20250221T100000
DTEND;TZID=America/New_York:20250221T113000
DTSTAMP:20260422T062550
CREATED:20250214T064253Z
LAST-MODIFIED:20250220T222747Z
UID:10000509-1740132000-1740137400@www.fcnp.com
SUMMARY:Winter Pruning for Woody Plants
DESCRIPTION:Winter is an excellent time to prune many trees and shrubs. Extension Master Gardeners Molly Newling and Angela McNamara will explain why and how to prune to remove crossing and rubbing branches\, suckers\, water sprouts\, and damaged wood. They will discuss the best practices for reducing shrub size\, trimming hedges\, and carefully removing larger limbs. The results will be trees and shrubs with healthier and fuller growth\, better flowers and fruit\, and a more attractive home landscape. Free. RSVP at https://mgnv.org/rsvp-for-public-education-classes/ to receive a link to participate.
URL:https://www.fcnp.com/event/winter-pruning-for-woody-plants-2/
LOCATION:Virtual
END:VEVENT
BEGIN:VEVENT
DTSTART;TZID=America/New_York:20250221T100000
DTEND;TZID=America/New_York:20250221T113000
DTSTAMP:20260422T062550
CREATED:20250202T034315Z
LAST-MODIFIED:20250216T071222Z
UID:10000429-1740132000-1740137400@www.fcnp.com
SUMMARY:Winter Pruning for Woody Plants
DESCRIPTION:Winter is an excellent time to prune many trees and shrubs. Extension Master Gardeners Molly Newling and Angela McNamara will explain why and how to prune to remove crossing and rubbing branches\, suckers\, water sprouts\, and damaged wood. They will discuss the best practices for reducing shrub size\, trimming hedges\, and carefully removing larger limbs. The results will be trees and shrubs with healthier and fuller growth\, better flowers and fruit\, and a more attractive home landscape. Free. RSVP at https://mgnv.org/rsvp-for-public-education-classes/ to receive a link to participate.\nJoin with Google Meet: https://meet.google.com/wtv-oktr-xmg\nOr dial: (US) +1 413-752-1326 PIN: 563641083#\nMore phone numbers: https://tel.meet/wtv-oktr-xmg?pin=6108750010286&hs=7\nLearn more about Meet at: https://support.google.com/a/users/answer/9282720
URL:https://www.fcnp.com/event/winter-pruning-for-woody-plants/
LOCATION:Virtual
END:VEVENT
BEGIN:VEVENT
DTSTART;TZID=America/New_York:20250220T120000
DTEND;TZID=America/New_York:20250220T130000
DTSTAMP:20260422T062550
CREATED:20250217T214227Z
LAST-MODIFIED:20250219T221325Z
UID:10000524-1740052800-1740056400@www.fcnp.com
SUMMARY:Get Hired in NOVA
DESCRIPTION:Fairfax County Economic Development Authority (FCEDA) will host a FREE weekly webinar designed to connect job seekers with the resources they need to find a job in Northern Virginia. Whether you are looking for a job or supporting displaced staff\, these sessions are packed with valuable insights on actions to take to get re-employed. To register for this free program go to https://workinffxnova.com/get-hired.
URL:https://www.fcnp.com/event/get-hired-in-nova/
LOCATION:Virtual
END:VEVENT
BEGIN:VEVENT
DTSTART;TZID=America/New_York:20250220T100000
DTEND;TZID=America/New_York:20250220T120000
DTSTAMP:20260422T062550
CREATED:20250217T214230Z
LAST-MODIFIED:20250219T221330Z
UID:10000525-1740045600-1740052800@www.fcnp.com
SUMMARY:1995 Mercedes E320 Online Auction
DESCRIPTION:Quinn’s Auction Galleries presents this 1995 Mercedes E320 Auto Auction. Please note 25% buyers premium for our auction. Payments accepted: bankers check\, cashiers check\, cash\, or money order. Must clear before pickup. Please email lori.taylor@quinnsauction.com for any payment questions. Email weekly@quinnsauction.com to schedule a preview appointment. 
URL:https://www.fcnp.com/event/1995-mercedes-e320-online-auction/
LOCATION:Virtual
END:VEVENT
END:VCALENDAR