BEGIN:VCALENDAR
VERSION:2.0
PRODID:-//Falls Church News-Press Online - ECPv6.10.1.1//NONSGML v1.0//EN
CALSCALE:GREGORIAN
METHOD:PUBLISH
X-WR-CALNAME:Falls Church News-Press Online
X-ORIGINAL-URL:https://www.fcnp.com
X-WR-CALDESC:Events for Falls Church News-Press Online
REFRESH-INTERVAL;VALUE=DURATION:PT1H
X-Robots-Tag:noindex
X-PUBLISHED-TTL:PT1H
BEGIN:VTIMEZONE
TZID:America/New_York
BEGIN:DAYLIGHT
TZOFFSETFROM:-0500
TZOFFSETTO:-0400
TZNAME:EDT
DTSTART:20250309T070000
END:DAYLIGHT
BEGIN:STANDARD
TZOFFSETFROM:-0400
TZOFFSETTO:-0500
TZNAME:EST
DTSTART:20251102T060000
END:STANDARD
END:VTIMEZONE
BEGIN:VEVENT
DTSTART;TZID=America/New_York:20250316T160000
DTEND;TZID=America/New_York:20250316T170000
DTSTAMP:20260423T112715
CREATED:20250311T034400Z
LAST-MODIFIED:20250316T052644Z
UID:10000671-1742140800-1742144400@www.fcnp.com
SUMMARY:Concert: Take a Classical Break Now and Then
DESCRIPTION:This concert will feature a rich selection of choral classics spanning from the past to the present\, including both beloved works by iconic composers and lesser-known gems by today’s most acclaimed voices. Audiences can expect timeless pieces that have resonated across generations\, alongside fresh\, contemporary compositions that highlight the evolving artistry within choral music. Tickets $15.00\, $25.00\, $30.00 at https://www.vocalartsfairfax.store
URL:https://www.fcnp.com/event/concert-take-a-classical-break-now-and-then/
LOCATION:The Falls Church Episcopal\, 115 E Fairfax St\, Falls Church\, VA\, United States
GEO:38.880775;-77.172398
X-APPLE-STRUCTURED-LOCATION;VALUE=URI;X-ADDRESS=The Falls Church Episcopal 115 E Fairfax St Falls Church VA United States;X-APPLE-RADIUS=500;X-TITLE=115 E Fairfax St:geo:-77.172398,38.880775
END:VEVENT
BEGIN:VEVENT
DTSTART;TZID=America/New_York:20250222T193000
DTEND;TZID=America/New_York:20250222T210000
DTSTAMP:20260423T112715
CREATED:20250218T215819Z
LAST-MODIFIED:20250222T231156Z
UID:10000532-1740252600-1740258000@www.fcnp.com
SUMMARY:Washington Sinfonietta presents Mozart Concerto for Basset Clarinet
DESCRIPTION:Elizabeth Bley is a Vandoren Artist-Clinician and is the Principal Clarinetist with The Loudoun Symphony Orchestra. She maintains a large private studio and works throughout Northern Virginia as an adjudicator\, clinician\, master class instructor\, clarinet sectional coach\, and freelance musician. She has performed many times as a soloist at the Bruges Conservatory in Belgium\, where she received a Clarinetissimo Talent Award for her “outstanding performances and high artistic level.” Tickets: $20.00 and $15.00 available for purchase at the door or  at https://www.brownpapertickets.com/event/6451772. NOTE: This concert was originally scheduled for February 8. Tickets for the original date will be honored at the door. If you purchased tickets online and cannot attend\, contact refunds@brownpapertickets.com.
URL:https://www.fcnp.com/event/washington-sinfonietta-presents-mozart-concerto-for-basset-clarinet/
LOCATION:The Falls Church Episcopal\, 115 E Fairfax St\, Falls Church\, VA\, United States
GEO:38.880775;-77.172398
X-APPLE-STRUCTURED-LOCATION;VALUE=URI;X-ADDRESS=The Falls Church Episcopal 115 E Fairfax St Falls Church VA United States;X-APPLE-RADIUS=500;X-TITLE=115 E Fairfax St:geo:-77.172398,38.880775
END:VEVENT
BEGIN:VEVENT
DTSTART;TZID=America/New_York:20250215T193000
DTEND;TZID=America/New_York:20250215T210000
DTSTAMP:20260423T112715
CREATED:20250130T025910Z
LAST-MODIFIED:20250215T065705Z
UID:10000422-1739647800-1739653200@www.fcnp.com
SUMMARY:Composer/pianist Sophia Vastek: In Our Softening
DESCRIPTION:Pianist and composer Sophia Subbayya Vastek\, will present an immersive solo piano program. In each of her performances\, Sophia creates experiential spaces for listening through intentional\, carefully-crafted sound design. The result is a spacious piano performance that feels equal parts communal and intimate\, grounded in emotional storytelling and care. $25.00 general admission\, free for students and youth. Purchase tickets at https://www.brownpapertickets.com/event/6500876
URL:https://www.fcnp.com/event/composer-pianist-sophia-vastek-in-our-softening/
LOCATION:The Falls Church Episcopal\, 115 E Fairfax St\, Falls Church\, VA\, United States
GEO:38.880775;-77.172398
X-APPLE-STRUCTURED-LOCATION;VALUE=URI;X-ADDRESS=The Falls Church Episcopal 115 E Fairfax St Falls Church VA United States;X-APPLE-RADIUS=500;X-TITLE=115 E Fairfax St:geo:-77.172398,38.880775
END:VEVENT
BEGIN:VEVENT
DTSTART;TZID=America/New_York:20250215T170000
DTEND;TZID=America/New_York:20250215T180000
DTSTAMP:20260423T112715
CREATED:20250208T051252Z
LAST-MODIFIED:20250210T054215Z
UID:10000469-1739638800-1739642400@www.fcnp.com
SUMMARY:Composer/Pianist Sophia Vastek
DESCRIPTION:Vastek will play a program of her original compositions and as a bonus perk with this concert\, Sophia has selected two outstanding local high school piano students to open for her: Amir Nikbakht\, from South County High School\, and Aayan Deshpande\, from Oakton High School. Tickets $25.00 go to www.brownpapertickets.com
URL:https://www.fcnp.com/event/composer-pianist-sophia-vastek/
LOCATION:The Falls Church Episcopal\, 115 E Fairfax St\, Falls Church\, VA\, United States
GEO:38.880775;-77.172398
X-APPLE-STRUCTURED-LOCATION;VALUE=URI;X-ADDRESS=The Falls Church Episcopal 115 E Fairfax St Falls Church VA United States;X-APPLE-RADIUS=500;X-TITLE=115 E Fairfax St:geo:-77.172398,38.880775
END:VEVENT
BEGIN:VEVENT
DTSTART;TZID=America/New_York:20250208T193000
DTEND;TZID=America/New_York:20250208T210000
DTSTAMP:20260423T112715
CREATED:20250128T022915Z
LAST-MODIFIED:20250208T051205Z
UID:10000418-1739043000-1739048400@www.fcnp.com
SUMMARY:Washington Sinfonietta Presents Mozart and Hayden
DESCRIPTION:The Washington Sinfonietta continues the 2024-25 Season with the music of Mozart and Hayden. The concert features Masonic Funeral Music K 477; Concerto for Basset Clarinet K 622 with guest Betty Bley; and Hayden’s Symphony No. 75. A reception follows. Tickets can be purchased at www.washingtonsinfonietta.org
URL:https://www.fcnp.com/event/washington-sinfonietta-presents-mozart-and-hayden/
LOCATION:The Falls Church Episcopal\, 115 E Fairfax St\, Falls Church\, VA\, United States
GEO:38.880775;-77.172398
X-APPLE-STRUCTURED-LOCATION;VALUE=URI;X-ADDRESS=The Falls Church Episcopal 115 E Fairfax St Falls Church VA United States;X-APPLE-RADIUS=500;X-TITLE=115 E Fairfax St:geo:-77.172398,38.880775
END:VEVENT
END:VCALENDAR