BEGIN:VCALENDAR
VERSION:2.0
PRODID:-//Falls Church News-Press Online - ECPv6.10.1.1//NONSGML v1.0//EN
CALSCALE:GREGORIAN
METHOD:PUBLISH
X-ORIGINAL-URL:https://www.fcnp.com
X-WR-CALDESC:Events for Falls Church News-Press Online
REFRESH-INTERVAL;VALUE=DURATION:PT1H
X-Robots-Tag:noindex
X-PUBLISHED-TTL:PT1H
BEGIN:VTIMEZONE
TZID:America/New_York
BEGIN:DAYLIGHT
TZOFFSETFROM:-0500
TZOFFSETTO:-0400
TZNAME:EDT
DTSTART:20250309T070000
END:DAYLIGHT
BEGIN:STANDARD
TZOFFSETFROM:-0400
TZOFFSETTO:-0500
TZNAME:EST
DTSTART:20251102T060000
END:STANDARD
END:VTIMEZONE
BEGIN:VEVENT
DTSTART;TZID=America/New_York:20250212T200000
DTEND;TZID=America/New_York:20250212T220000
DTSTAMP:20260425T174019
CREATED:20250203T035819Z
LAST-MODIFIED:20250212T061141Z
UID:10000449-1739390400-1739397600@www.fcnp.com
SUMMARY:An Evening with Tituss Burgess
DESCRIPTION:Broadway funnyman and breakout star of Unbreakable Kimmy Schmidt and Schmigadoon! Tituss Burgess takes on The Barns for two unforgettable evenings. Known for his unmistakable high tenor voice and fabulous persona\, the Emmy and SAG-nominated actor has graced both screen and stage\, appearing in the musical comedy series Central Park\, Aretha Franklin’s biopic Respect\, and in Broadway’s Moulin Rouge! The Musical (Harry Zidler)\, Good Vibrations\, Jersey Boys\, Guys and Dolls\, and The Little Mermaid (Sebastian). Don’t miss Burgess’ comedic brilliance live at The Barns! Tickets: $68.00 Purchase at www.wolftrap.org
URL:https://www.fcnp.com/event/an-evening-with-tituss-burgess/
LOCATION:The Barns at Wolf Trap\, 1635 Trap Rd\, Vienna\, VA\, United States
GEO:38.934055;-77.267583
X-APPLE-STRUCTURED-LOCATION;VALUE=URI;X-ADDRESS=The Barns at Wolf Trap 1635 Trap Rd Vienna VA United States;X-APPLE-RADIUS=500;X-TITLE=1635 Trap Rd:geo:-77.267583,38.934055
END:VEVENT
BEGIN:VEVENT
DTSTART;TZID=America/New_York:20250121T200000
DTEND;TZID=America/New_York:20250121T220000
DTSTAMP:20260425T174019
CREATED:20250116T211431Z
LAST-MODIFIED:20250122T005642Z
UID:10000034-1737489600-1737496800@www.fcnp.com
SUMMARY:The Del McCoury Band: Live Performance
DESCRIPTION:From traditional bluegrass that charmed honkytonks and the Grand Ole Opry\, to the present-day buzz of viral videos\, Del McCoury has maintained a legacy like few others. The Del McCoury Band\, which includes McCoury’s sons Ronnie and Rob\, delights and welcomes a growing musical community while advancing bluegrass music and heritage. Multiple performances from 1/21/25 to 1/26/25. Buy tickets at www.wolftrap.org.
URL:https://www.fcnp.com/event/the-del-mccoury-band-live-performance/
LOCATION:The Barns at Wolf Trap\, 1635 Trap Rd\, Vienna\, VA\, United States
GEO:38.934055;-77.267583
X-APPLE-STRUCTURED-LOCATION;VALUE=URI;X-ADDRESS=The Barns at Wolf Trap 1635 Trap Rd Vienna VA United States;X-APPLE-RADIUS=500;X-TITLE=1635 Trap Rd:geo:-77.267583,38.934055
END:VEVENT
BEGIN:VEVENT
DTSTART;TZID=America/New_York:20250119T133000
DTEND;TZID=America/New_York:20250119T150000
DTSTAMP:20260425T174019
CREATED:20250116T211407Z
LAST-MODIFIED:20250118T235649Z
UID:10000023-1737293400-1737298800@www.fcnp.com
SUMMARY:John Holiday\, countertenor: Live Performance
DESCRIPTION:Wolf Trap Opera alumnus John Holiday (’14) has established himself as “one of the finest countertenors of his generation” (Los Angeles Times). Holiday enjoys an international career singing with opera companies such as the Metropolitan Opera\, Bayerische Staatsoper (Munich)\, and Lyric Opera of Chicago\, among others. Now\, he returns to The Barns to sing works by Price\, Bonds\, Robert L. Morris\, Gershwin\, and more. Buy tickets at www.wolftrap.org
URL:https://www.fcnp.com/event/john-holiday-countertenor-live-performance/
LOCATION:The Barns at Wolf Trap\, 1635 Trap Rd\, Vienna\, VA\, United States
GEO:38.934055;-77.267583
X-APPLE-STRUCTURED-LOCATION;VALUE=URI;X-ADDRESS=The Barns at Wolf Trap 1635 Trap Rd Vienna VA United States;X-APPLE-RADIUS=500;X-TITLE=1635 Trap Rd:geo:-77.267583,38.934055
END:VEVENT
END:VCALENDAR