BEGIN:VCALENDAR
VERSION:2.0
PRODID:-//Falls Church News-Press Online - ECPv6.10.1.1//NONSGML v1.0//EN
CALSCALE:GREGORIAN
METHOD:PUBLISH
X-WR-CALNAME:Falls Church News-Press Online
X-ORIGINAL-URL:https://www.fcnp.com
X-WR-CALDESC:Events for Falls Church News-Press Online
REFRESH-INTERVAL;VALUE=DURATION:PT1H
X-Robots-Tag:noindex
X-PUBLISHED-TTL:PT1H
BEGIN:VTIMEZONE
TZID:America/New_York
BEGIN:DAYLIGHT
TZOFFSETFROM:-0500
TZOFFSETTO:-0400
TZNAME:EDT
DTSTART:20260308T070000
END:DAYLIGHT
BEGIN:STANDARD
TZOFFSETFROM:-0400
TZOFFSETTO:-0500
TZNAME:EST
DTSTART:20261101T060000
END:STANDARD
END:VTIMEZONE
BEGIN:VEVENT
DTSTART;TZID=America/New_York:20260423T103000
DTEND;TZID=America/New_York:20260423T113000
DTSTAMP:20260420T092839
CREATED:20250116T212027Z
LAST-MODIFIED:20250318T063600Z
UID:10000207-1776940200-1776943800@www.fcnp.com
SUMMARY:Story Hour\, Ages 5 and up
DESCRIPTION:https://www.falls-church.lib.va.us/
URL:https://www.fcnp.com/event/story-hour-ages-5-and-up-66/
LOCATION:Mary Riley Styles Public Library (120 N. Virginia Ave.\, Falls Church)
END:VEVENT
BEGIN:VEVENT
DTSTART;TZID=America/New_York:20260430T103000
DTEND;TZID=America/New_York:20260430T113000
DTSTAMP:20260420T092839
CREATED:20250116T212031Z
LAST-MODIFIED:20250318T063605Z
UID:10000209-1777545000-1777548600@www.fcnp.com
SUMMARY:Story Hour\, Ages 5 and up
DESCRIPTION:https://www.falls-church.lib.va.us/
URL:https://www.fcnp.com/event/story-hour-ages-5-and-up-67/
LOCATION:Mary Riley Styles Public Library (120 N. Virginia Ave.\, Falls Church)
END:VEVENT
BEGIN:VEVENT
DTSTART;TZID=America/New_York:20260507T103000
DTEND;TZID=America/New_York:20260507T113000
DTSTAMP:20260420T092839
CREATED:20250116T212037Z
LAST-MODIFIED:20250318T063611Z
UID:10000213-1778149800-1778153400@www.fcnp.com
SUMMARY:Story Hour\, Ages 5 and up
DESCRIPTION:https://www.falls-church.lib.va.us/
URL:https://www.fcnp.com/event/story-hour-ages-5-and-up-68/
LOCATION:Mary Riley Styles Public Library (120 N. Virginia Ave.\, Falls Church)
END:VEVENT
BEGIN:VEVENT
DTSTART;TZID=America/New_York:20260514T103000
DTEND;TZID=America/New_York:20260514T113000
DTSTAMP:20260420T092839
CREATED:20250116T212041Z
LAST-MODIFIED:20250318T063618Z
UID:10000215-1778754600-1778758200@www.fcnp.com
SUMMARY:Story Hour\, Ages 5 and up
DESCRIPTION:https://www.falls-church.lib.va.us/
URL:https://www.fcnp.com/event/story-hour-ages-5-and-up-69/
LOCATION:Mary Riley Styles Public Library (120 N. Virginia Ave.\, Falls Church)
END:VEVENT
BEGIN:VEVENT
DTSTART;TZID=America/New_York:20260521T103000
DTEND;TZID=America/New_York:20260521T113000
DTSTAMP:20260420T092840
CREATED:20250116T212046Z
LAST-MODIFIED:20250318T063623Z
UID:10000217-1779359400-1779363000@www.fcnp.com
SUMMARY:Story Hour\, Ages 5 and up
DESCRIPTION:https://www.falls-church.lib.va.us/
URL:https://www.fcnp.com/event/story-hour-ages-5-and-up-70/
LOCATION:Mary Riley Styles Public Library (120 N. Virginia Ave.\, Falls Church)
END:VEVENT
BEGIN:VEVENT
DTSTART;TZID=America/New_York:20260528T103000
DTEND;TZID=America/New_York:20260528T113000
DTSTAMP:20260420T092840
CREATED:20250116T212051Z
LAST-MODIFIED:20250318T063627Z
UID:10000219-1779964200-1779967800@www.fcnp.com
SUMMARY:Story Hour\, Ages 5 and up
DESCRIPTION:https://www.falls-church.lib.va.us/
URL:https://www.fcnp.com/event/story-hour-ages-5-and-up-71/
LOCATION:Mary Riley Styles Public Library (120 N. Virginia Ave.\, Falls Church)
END:VEVENT
BEGIN:VEVENT
DTSTART;TZID=America/New_York:20260604T103000
DTEND;TZID=America/New_York:20260604T113000
DTSTAMP:20260420T092840
CREATED:20250116T233333Z
LAST-MODIFIED:20250318T063632Z
UID:10000221-1780569000-1780572600@www.fcnp.com
SUMMARY:Story Hour\, Ages 5 and up
DESCRIPTION:https://www.falls-church.lib.va.us/
URL:https://www.fcnp.com/event/story-hour-ages-5-and-up-72/
LOCATION:Mary Riley Styles Public Library (120 N. Virginia Ave.\, Falls Church)
END:VEVENT
BEGIN:VEVENT
DTSTART;TZID=America/New_York:20260611T103000
DTEND;TZID=America/New_York:20260611T113000
DTSTAMP:20260420T092840
CREATED:20250116T233338Z
LAST-MODIFIED:20250318T063639Z
UID:10000225-1781173800-1781177400@www.fcnp.com
SUMMARY:Story Hour\, Ages 5 and up
DESCRIPTION:https://www.falls-church.lib.va.us/
URL:https://www.fcnp.com/event/story-hour-ages-5-and-up-73/
LOCATION:Mary Riley Styles Public Library (120 N. Virginia Ave.\, Falls Church)
END:VEVENT
BEGIN:VEVENT
DTSTART;TZID=America/New_York:20260618T103000
DTEND;TZID=America/New_York:20260618T113000
DTSTAMP:20260420T092840
CREATED:20250116T233342Z
LAST-MODIFIED:20250318T063643Z
UID:10000227-1781778600-1781782200@www.fcnp.com
SUMMARY:Story Hour\, Ages 5 and up
DESCRIPTION:https://www.falls-church.lib.va.us/
URL:https://www.fcnp.com/event/story-hour-ages-5-and-up-74/
LOCATION:Mary Riley Styles Public Library (120 N. Virginia Ave.\, Falls Church)
END:VEVENT
BEGIN:VEVENT
DTSTART;TZID=America/New_York:20260625T103000
DTEND;TZID=America/New_York:20260625T113000
DTSTAMP:20260420T092840
CREATED:20250116T233346Z
LAST-MODIFIED:20250318T063648Z
UID:10000229-1782383400-1782387000@www.fcnp.com
SUMMARY:Story Hour\, Ages 5 and up
DESCRIPTION:https://www.falls-church.lib.va.us/
URL:https://www.fcnp.com/event/story-hour-ages-5-and-up-75/
LOCATION:Mary Riley Styles Public Library (120 N. Virginia Ave.\, Falls Church)
END:VEVENT
BEGIN:VEVENT
DTSTART;TZID=America/New_York:20260702T103000
DTEND;TZID=America/New_York:20260702T113000
DTSTAMP:20260420T092840
CREATED:20250116T233349Z
LAST-MODIFIED:20250318T063653Z
UID:10000231-1782988200-1782991800@www.fcnp.com
SUMMARY:Story Hour\, Ages 5 and up
DESCRIPTION:https://www.falls-church.lib.va.us/
URL:https://www.fcnp.com/event/story-hour-ages-5-and-up-76/
LOCATION:Mary Riley Styles Public Library (120 N. Virginia Ave.\, Falls Church)
END:VEVENT
BEGIN:VEVENT
DTSTART;TZID=America/New_York:20260709T103000
DTEND;TZID=America/New_York:20260709T113000
DTSTAMP:20260420T092840
CREATED:20250116T233357Z
LAST-MODIFIED:20250318T063700Z
UID:10000235-1783593000-1783596600@www.fcnp.com
SUMMARY:Story Hour\, Ages 5 and up
DESCRIPTION:https://www.falls-church.lib.va.us/
URL:https://www.fcnp.com/event/story-hour-ages-5-and-up-77/
LOCATION:Mary Riley Styles Public Library (120 N. Virginia Ave.\, Falls Church)
END:VEVENT
BEGIN:VEVENT
DTSTART;TZID=America/New_York:20260716T103000
DTEND;TZID=America/New_York:20260716T113000
DTSTAMP:20260420T092840
CREATED:20250116T233400Z
LAST-MODIFIED:20250318T063704Z
UID:10000237-1784197800-1784201400@www.fcnp.com
SUMMARY:Story Hour\, Ages 5 and up
DESCRIPTION:https://www.falls-church.lib.va.us/
URL:https://www.fcnp.com/event/story-hour-ages-5-and-up-78/
LOCATION:Mary Riley Styles Public Library (120 N. Virginia Ave.\, Falls Church)
END:VEVENT
BEGIN:VEVENT
DTSTART;TZID=America/New_York:20260723T103000
DTEND;TZID=America/New_York:20260723T113000
DTSTAMP:20260420T092840
CREATED:20250116T233404Z
LAST-MODIFIED:20250318T063709Z
UID:10000239-1784802600-1784806200@www.fcnp.com
SUMMARY:Story Hour\, Ages 5 and up
DESCRIPTION:https://www.falls-church.lib.va.us/
URL:https://www.fcnp.com/event/story-hour-ages-5-and-up-79/
LOCATION:Mary Riley Styles Public Library (120 N. Virginia Ave.\, Falls Church)
END:VEVENT
BEGIN:VEVENT
DTSTART;TZID=America/New_York:20260730T103000
DTEND;TZID=America/New_York:20260730T113000
DTSTAMP:20260420T092840
CREATED:20250116T233408Z
LAST-MODIFIED:20250318T063714Z
UID:10000241-1785407400-1785411000@www.fcnp.com
SUMMARY:Story Hour\, Ages 5 and up
DESCRIPTION:https://www.falls-church.lib.va.us/
URL:https://www.fcnp.com/event/story-hour-ages-5-and-up-80/
LOCATION:Mary Riley Styles Public Library (120 N. Virginia Ave.\, Falls Church)
END:VEVENT
BEGIN:VEVENT
DTSTART;TZID=America/New_York:20260806T103000
DTEND;TZID=America/New_York:20260806T113000
DTSTAMP:20260420T092840
CREATED:20250116T233411Z
LAST-MODIFIED:20250318T063719Z
UID:10000243-1786012200-1786015800@www.fcnp.com
SUMMARY:Story Hour\, Ages 5 and up
DESCRIPTION:https://www.falls-church.lib.va.us/
URL:https://www.fcnp.com/event/story-hour-ages-5-and-up-81/
LOCATION:Mary Riley Styles Public Library (120 N. Virginia Ave.\, Falls Church)
END:VEVENT
BEGIN:VEVENT
DTSTART;TZID=America/New_York:20260813T103000
DTEND;TZID=America/New_York:20260813T113000
DTSTAMP:20260420T092840
CREATED:20250116T233419Z
LAST-MODIFIED:20250318T063727Z
UID:10000247-1786617000-1786620600@www.fcnp.com
SUMMARY:Story Hour\, Ages 5 and up
DESCRIPTION:https://www.falls-church.lib.va.us/
URL:https://www.fcnp.com/event/story-hour-ages-5-and-up-82/
LOCATION:Mary Riley Styles Public Library (120 N. Virginia Ave.\, Falls Church)
END:VEVENT
BEGIN:VEVENT
DTSTART;TZID=America/New_York:20260820T103000
DTEND;TZID=America/New_York:20260820T113000
DTSTAMP:20260420T092840
CREATED:20250116T233424Z
LAST-MODIFIED:20250318T063732Z
UID:10000249-1787221800-1787225400@www.fcnp.com
SUMMARY:Story Hour\, Ages 5 and up
DESCRIPTION:https://www.falls-church.lib.va.us/
URL:https://www.fcnp.com/event/story-hour-ages-5-and-up-83/
LOCATION:Mary Riley Styles Public Library (120 N. Virginia Ave.\, Falls Church)
END:VEVENT
BEGIN:VEVENT
DTSTART;TZID=America/New_York:20260827T103000
DTEND;TZID=America/New_York:20260827T113000
DTSTAMP:20260420T092840
CREATED:20250116T233428Z
LAST-MODIFIED:20250318T063736Z
UID:10000251-1787826600-1787830200@www.fcnp.com
SUMMARY:Story Hour\, Ages 5 and up
DESCRIPTION:https://www.falls-church.lib.va.us/
URL:https://www.fcnp.com/event/story-hour-ages-5-and-up-84/
LOCATION:Mary Riley Styles Public Library (120 N. Virginia Ave.\, Falls Church)
END:VEVENT
BEGIN:VEVENT
DTSTART;TZID=America/New_York:20260903T103000
DTEND;TZID=America/New_York:20260903T113000
DTSTAMP:20260420T092840
CREATED:20250116T233432Z
LAST-MODIFIED:20250318T063741Z
UID:10000253-1788431400-1788435000@www.fcnp.com
SUMMARY:Story Hour\, Ages 5 and up
DESCRIPTION:https://www.falls-church.lib.va.us/
URL:https://www.fcnp.com/event/story-hour-ages-5-and-up-85/
LOCATION:Mary Riley Styles Public Library (120 N. Virginia Ave.\, Falls Church)
END:VEVENT
BEGIN:VEVENT
DTSTART;TZID=America/New_York:20260910T103000
DTEND;TZID=America/New_York:20260910T113000
DTSTAMP:20260420T092840
CREATED:20250116T233439Z
LAST-MODIFIED:20250318T063749Z
UID:10000257-1789036200-1789039800@www.fcnp.com
SUMMARY:Story Hour\, Ages 5 and up
DESCRIPTION:https://www.falls-church.lib.va.us/
URL:https://www.fcnp.com/event/story-hour-ages-5-and-up-86/
LOCATION:Mary Riley Styles Public Library (120 N. Virginia Ave.\, Falls Church)
END:VEVENT
BEGIN:VEVENT
DTSTART;TZID=America/New_York:20260917T103000
DTEND;TZID=America/New_York:20260917T113000
DTSTAMP:20260420T092840
CREATED:20250116T233442Z
LAST-MODIFIED:20250318T063754Z
UID:10000259-1789641000-1789644600@www.fcnp.com
SUMMARY:Story Hour\, Ages 5 and up
DESCRIPTION:https://www.falls-church.lib.va.us/
URL:https://www.fcnp.com/event/story-hour-ages-5-and-up-87/
LOCATION:Mary Riley Styles Public Library (120 N. Virginia Ave.\, Falls Church)
END:VEVENT
BEGIN:VEVENT
DTSTART;TZID=America/New_York:20260924T103000
DTEND;TZID=America/New_York:20260924T113000
DTSTAMP:20260420T092840
CREATED:20250116T233446Z
LAST-MODIFIED:20250318T063759Z
UID:10000261-1790245800-1790249400@www.fcnp.com
SUMMARY:Story Hour\, Ages 5 and up
DESCRIPTION:https://www.falls-church.lib.va.us/
URL:https://www.fcnp.com/event/story-hour-ages-5-and-up-88/
LOCATION:Mary Riley Styles Public Library (120 N. Virginia Ave.\, Falls Church)
END:VEVENT
BEGIN:VEVENT
DTSTART;TZID=America/New_York:20261001T103000
DTEND;TZID=America/New_York:20261001T113000
DTSTAMP:20260420T092840
CREATED:20250116T233450Z
LAST-MODIFIED:20250318T063803Z
UID:10000263-1790850600-1790854200@www.fcnp.com
SUMMARY:Story Hour\, Ages 5 and up
DESCRIPTION:https://www.falls-church.lib.va.us/
URL:https://www.fcnp.com/event/story-hour-ages-5-and-up-89/
LOCATION:Mary Riley Styles Public Library (120 N. Virginia Ave.\, Falls Church)
END:VEVENT
BEGIN:VEVENT
DTSTART;TZID=America/New_York:20261008T103000
DTEND;TZID=America/New_York:20261008T113000
DTSTAMP:20260420T092840
CREATED:20250116T233455Z
LAST-MODIFIED:20250318T063810Z
UID:10000267-1791455400-1791459000@www.fcnp.com
SUMMARY:Story Hour\, Ages 5 and up
DESCRIPTION:https://www.falls-church.lib.va.us/
URL:https://www.fcnp.com/event/story-hour-ages-5-and-up-90/
LOCATION:Mary Riley Styles Public Library (120 N. Virginia Ave.\, Falls Church)
END:VEVENT
BEGIN:VEVENT
DTSTART;TZID=America/New_York:20261015T103000
DTEND;TZID=America/New_York:20261015T113000
DTSTAMP:20260420T092840
CREATED:20250116T233501Z
LAST-MODIFIED:20250318T063815Z
UID:10000269-1792060200-1792063800@www.fcnp.com
SUMMARY:Story Hour\, Ages 5 and up
DESCRIPTION:https://www.falls-church.lib.va.us/
URL:https://www.fcnp.com/event/story-hour-ages-5-and-up-91/
LOCATION:Mary Riley Styles Public Library (120 N. Virginia Ave.\, Falls Church)
END:VEVENT
BEGIN:VEVENT
DTSTART;TZID=America/New_York:20261022T103000
DTEND;TZID=America/New_York:20261022T113000
DTSTAMP:20260420T092840
CREATED:20250116T233505Z
LAST-MODIFIED:20250318T063820Z
UID:10000271-1792665000-1792668600@www.fcnp.com
SUMMARY:Story Hour\, Ages 5 and up
DESCRIPTION:https://www.falls-church.lib.va.us/
URL:https://www.fcnp.com/event/story-hour-ages-5-and-up-92/
LOCATION:Mary Riley Styles Public Library (120 N. Virginia Ave.\, Falls Church)
END:VEVENT
BEGIN:VEVENT
DTSTART;TZID=America/New_York:20261029T103000
DTEND;TZID=America/New_York:20261029T113000
DTSTAMP:20260420T092840
CREATED:20250116T233509Z
LAST-MODIFIED:20250318T063824Z
UID:10000273-1793269800-1793273400@www.fcnp.com
SUMMARY:Story Hour\, Ages 5 and up
DESCRIPTION:https://www.falls-church.lib.va.us/
URL:https://www.fcnp.com/event/story-hour-ages-5-and-up-93/
LOCATION:Mary Riley Styles Public Library (120 N. Virginia Ave.\, Falls Church)
END:VEVENT
BEGIN:VEVENT
DTSTART;TZID=America/New_York:20261105T103000
DTEND;TZID=America/New_York:20261105T113000
DTSTAMP:20260420T092840
CREATED:20250116T233513Z
LAST-MODIFIED:20250318T063831Z
UID:10000275-1793874600-1793878200@www.fcnp.com
SUMMARY:Story Hour\, Ages 5 and up
DESCRIPTION:https://www.falls-church.lib.va.us/
URL:https://www.fcnp.com/event/story-hour-ages-5-and-up-94/
LOCATION:Mary Riley Styles Public Library (120 N. Virginia Ave.\, Falls Church)
END:VEVENT
BEGIN:VEVENT
DTSTART;TZID=America/New_York:20261112T103000
DTEND;TZID=America/New_York:20261112T113000
DTSTAMP:20260420T092840
CREATED:20250116T233520Z
LAST-MODIFIED:20250318T063837Z
UID:10000279-1794479400-1794483000@www.fcnp.com
SUMMARY:Story Hour\, Ages 5 and up
DESCRIPTION:https://www.falls-church.lib.va.us/
URL:https://www.fcnp.com/event/story-hour-ages-5-and-up-95/
LOCATION:Mary Riley Styles Public Library (120 N. Virginia Ave.\, Falls Church)
END:VEVENT
END:VCALENDAR