BEGIN:VCALENDAR
VERSION:2.0
PRODID:-//Falls Church News-Press Online - ECPv6.10.1.1//NONSGML v1.0//EN
CALSCALE:GREGORIAN
METHOD:PUBLISH
X-ORIGINAL-URL:https://www.fcnp.com
X-WR-CALDESC:Events for Falls Church News-Press Online
REFRESH-INTERVAL;VALUE=DURATION:PT1H
X-Robots-Tag:noindex
X-PUBLISHED-TTL:PT1H
BEGIN:VTIMEZONE
TZID:America/New_York
BEGIN:DAYLIGHT
TZOFFSETFROM:-0500
TZOFFSETTO:-0400
TZNAME:EDT
DTSTART:20250309T070000
END:DAYLIGHT
BEGIN:STANDARD
TZOFFSETFROM:-0400
TZOFFSETTO:-0500
TZNAME:EST
DTSTART:20251102T060000
END:STANDARD
END:VTIMEZONE
BEGIN:VEVENT
DTSTART;VALUE=DATE:20250320
DTEND;VALUE=DATE:20250323
DTSTAMP:20260423T061544
CREATED:20250317T055744Z
LAST-MODIFIED:20250318T062740Z
UID:10000735-1742428800-1742687999@www.fcnp.com
SUMMARY:Complexions Contemporary Ballet
DESCRIPTION:Complexions Contemporary Ballet is recognized for its new\, exciting vision of human movement. Its first full company engagement at the Kennedy Center includes a new work by Dwight Rhoden\, set to songs from U2’s acoustic album Songs of Surrender. Tickets $34.50 at www.kennedy-center.org.
URL:https://www.fcnp.com/event/complexions-contemporary-ballet/
LOCATION:John F. Kennedy Center for the Performing Arts\, 2700 F St NW\, Washington\, DC\, United States
GEO:38.898232;-77.056348
X-APPLE-STRUCTURED-LOCATION;VALUE=URI;X-ADDRESS=John F. Kennedy Center for the Performing Arts 2700 F St NW Washington DC United States;X-APPLE-RADIUS=500;X-TITLE=2700 F St NW:geo:-77.056348,38.898232
END:VEVENT
BEGIN:VEVENT
DTSTART;VALUE=DATE:20250306
DTEND;VALUE=DATE:20250317
DTSTAMP:20260423T061544
CREATED:20250305T021152Z
LAST-MODIFIED:20250316T052641Z
UID:10000596-1741219200-1742169599@www.fcnp.com
SUMMARY:Riverdance 30 – The New Generation
DESCRIPTION:Since Riverdance first emerged onto the world stage\, its Grammy Award®–winning fusion of Irish and international dance and music has captured the hearts of millions. Now the show is embarking on a special anniversary tour\, bringing its magic to audiences worldwide. Tickets $39.00 – $199.00 at www.kennedy-center.org.
URL:https://www.fcnp.com/event/riverdance-30-the-new-generation/
LOCATION:John F. Kennedy Center for the Performing Arts\, 2700 F St NW\, Washington\, DC\, United States
GEO:38.898232;-77.056348
X-APPLE-STRUCTURED-LOCATION;VALUE=URI;X-ADDRESS=John F. Kennedy Center for the Performing Arts 2700 F St NW Washington DC United States;X-APPLE-RADIUS=500;X-TITLE=2700 F St NW:geo:-77.056348,38.898232
END:VEVENT
BEGIN:VEVENT
DTSTART;VALUE=DATE:20250130
DTEND;VALUE=DATE:20250203
DTSTAMP:20260423T061544
CREATED:20250128T022739Z
LAST-MODIFIED:20250202T034149Z
UID:10000398-1738195200-1738540799@www.fcnp.com
SUMMARY:National Ballet of China: Chinese New Year
DESCRIPTION:With its dazzling hybrid of western ballet and Chinese culture\, National Ballet of China returns to thrill audiences with its luminous fusion of traditions\, telling the story of a family’s Chinese New Year celebration—set to Tchaikovsky’s treasured Nutcracker score. Live music by the Kennedy Center Opera House Orchestra and National Children’s Chorus\, United States of America. Tickets prices range $30.00 – $142.00 Buy tickets at www.kennedy-center.org
URL:https://www.fcnp.com/event/national-ballet-of-china-chinese-new-year/
LOCATION:John F. Kennedy Center for the Performing Arts\, 2700 F St NW\, Washington\, DC\, United States
GEO:38.898232;-77.056348
X-APPLE-STRUCTURED-LOCATION;VALUE=URI;X-ADDRESS=John F. Kennedy Center for the Performing Arts 2700 F St NW Washington DC United States;X-APPLE-RADIUS=500;X-TITLE=2700 F St NW:geo:-77.056348,38.898232
END:VEVENT
BEGIN:VEVENT
DTSTART;VALUE=DATE:20250117
DTEND;VALUE=DATE:20250118
DTSTAMP:20260423T061544
CREATED:20250116T211335Z
LAST-MODIFIED:20250117T234250Z
UID:10000008-1737072000-1737158399@www.fcnp.com
SUMMARY:Grey Skies Blue
DESCRIPTION:Dance and theater merge in SHAPESHIFT’s Grey Skies Blue. Join a group of friends as they uncover personal truths through dynamic movement in an inspiring show that resonates with audiences of all ages. Multiple performance times from 1/17/25 – 1/19/25. Buy tickets on www.kennedy-center.org
URL:https://www.fcnp.com/event/grey-skies-blue/
LOCATION:John F. Kennedy Center for the Performing Arts\, 2700 F St NW\, Washington\, DC\, United States
GEO:38.898232;-77.056348
X-APPLE-STRUCTURED-LOCATION;VALUE=URI;X-ADDRESS=John F. Kennedy Center for the Performing Arts 2700 F St NW Washington DC United States;X-APPLE-RADIUS=500;X-TITLE=2700 F St NW:geo:-77.056348,38.898232
END:VEVENT
END:VCALENDAR