BEGIN:VCALENDAR
VERSION:2.0
PRODID:-//Falls Church News-Press Online - ECPv6.10.1.1//NONSGML v1.0//EN
CALSCALE:GREGORIAN
METHOD:PUBLISH
X-WR-CALNAME:Falls Church News-Press Online
X-ORIGINAL-URL:https://www.fcnp.com
X-WR-CALDESC:Events for Falls Church News-Press Online
REFRESH-INTERVAL;VALUE=DURATION:PT1H
X-Robots-Tag:noindex
X-PUBLISHED-TTL:PT1H
BEGIN:VTIMEZONE
TZID:America/New_York
BEGIN:DAYLIGHT
TZOFFSETFROM:-0500
TZOFFSETTO:-0400
TZNAME:EDT
DTSTART:20250309T070000
END:DAYLIGHT
BEGIN:STANDARD
TZOFFSETFROM:-0400
TZOFFSETTO:-0500
TZNAME:EST
DTSTART:20251102T060000
END:STANDARD
END:VTIMEZONE
BEGIN:VEVENT
DTSTART;TZID=America/New_York:20250208T043000
DTEND;TZID=America/New_York:20250208T053000
DTSTAMP:20260422T062610
CREATED:20250203T035733Z
LAST-MODIFIED:20250208T051146Z
UID:10000437-1738989000-1738992600@www.fcnp.com
SUMMARY:Twilight Boardwalk Stroll
DESCRIPTION:Join a park naturalist for a guided walk along the forested paths to the wetland and experience the park as it transitions from day into night. Watch and listen for nocturnal residents such as beavers and owls. Ages 6 to Adult. Price: $10.00 Register at www.fairfaxcounty.gov/parks
URL:https://www.fcnp.com/event/twilight-boardwalk-stroll/
LOCATION:Huntley Meadows Park\, 3701 Lockheed Blvd\, Alexandria\, VA\, United States
GEO:38.760174;-77.094518
X-APPLE-STRUCTURED-LOCATION;VALUE=URI;X-ADDRESS=Huntley Meadows Park 3701 Lockheed Blvd Alexandria VA United States;X-APPLE-RADIUS=500;X-TITLE=3701 Lockheed Blvd:geo:-77.094518,38.760174
END:VEVENT
BEGIN:VEVENT
DTSTART;TZID=America/New_York:20250205T130000
DTEND;TZID=America/New_York:20250205T140000
DTSTAMP:20260422T062610
CREATED:20250128T022856Z
LAST-MODIFIED:20250205T042645Z
UID:10000414-1738760400-1738764000@www.fcnp.com
SUMMARY:Corn Grinding & Clay Pottery
DESCRIPTION:Learn how the Powhatan Native Americans used the plants and animals you see every day for their medicine\, grocery store and clothing. Immerse yourself in a way of life 400 years ago. Grind corn\, make a clay pot\, master corn darts and go on a guided tour to see the park from the perspective of a Virginia Indian. Ages 4 – Adult. Price: $12.00 Register at www.fairfaxcounty.gov/parks
URL:https://www.fcnp.com/event/corn-grinding-clay-pottery/
LOCATION:Huntley Meadows Park\, 3701 Lockheed Blvd\, Alexandria\, VA\, United States
GEO:38.760174;-77.094518
X-APPLE-STRUCTURED-LOCATION;VALUE=URI;X-ADDRESS=Huntley Meadows Park 3701 Lockheed Blvd Alexandria VA United States;X-APPLE-RADIUS=500;X-TITLE=3701 Lockheed Blvd:geo:-77.094518,38.760174
END:VEVENT
BEGIN:VEVENT
DTSTART;TZID=America/New_York:20250117T161500
DTEND;TZID=America/New_York:20250117T171500
DTSTAMP:20260422T062610
CREATED:20250116T211329Z
LAST-MODIFIED:20250116T232645Z
UID:10000005-1737130500-1737134100@www.fcnp.com
SUMMARY:Wetland at Dusk Walk
DESCRIPTION:Join park naturalists for a relaxing stroll through the park’s forest and wetland paths. Look and listen for wildlife settling down or waking up during the transition of day to night. Register with Fairfax County Park Authority. Price: $10.00
URL:https://www.fcnp.com/event/wetland-at-dusk-walk/
LOCATION:Huntley Meadows Park\, 3701 Lockheed Blvd\, Alexandria\, VA\, United States
GEO:38.760174;-77.094518
X-APPLE-STRUCTURED-LOCATION;VALUE=URI;X-ADDRESS=Huntley Meadows Park 3701 Lockheed Blvd Alexandria VA United States;X-APPLE-RADIUS=500;X-TITLE=3701 Lockheed Blvd:geo:-77.094518,38.760174
END:VEVENT
END:VCALENDAR