BEGIN:VCALENDAR
VERSION:2.0
PRODID:-//Falls Church News-Press Online - ECPv6.10.1.1//NONSGML v1.0//EN
CALSCALE:GREGORIAN
METHOD:PUBLISH
X-WR-CALNAME:Falls Church News-Press Online
X-ORIGINAL-URL:https://www.fcnp.com
X-WR-CALDESC:Events for Falls Church News-Press Online
REFRESH-INTERVAL;VALUE=DURATION:PT1H
X-Robots-Tag:noindex
X-PUBLISHED-TTL:PT1H
BEGIN:VTIMEZONE
TZID:America/New_York
BEGIN:DAYLIGHT
TZOFFSETFROM:-0500
TZOFFSETTO:-0400
TZNAME:EDT
DTSTART:20250309T070000
END:DAYLIGHT
BEGIN:STANDARD
TZOFFSETFROM:-0400
TZOFFSETTO:-0500
TZNAME:EST
DTSTART:20251102T060000
END:STANDARD
END:VTIMEZONE
BEGIN:VEVENT
DTSTART;VALUE=DATE:20250405
DTEND;VALUE=DATE:20250407
DTSTAMP:20260422T143922
CREATED:20250311T034604Z
LAST-MODIFIED:20250318T063029Z
UID:10000694-1743811200-1743983999@www.fcnp.com
SUMMARY:Art Blooms at Mosaic
DESCRIPTION:Mosaic welcomes Spring with a two-day festival in partnership with the National Cherry Blossom Festival. Festival Highlights: A unique market of +110 handmade\, artisan\, and vintage goods vendors\, over +60 local vendors showcasing fresh produce and delectable snacks\, Live music: Performances will take center stage on Strawberry Lane\, featuring local bands/artists. Tommy McFly returns to Mosaic as official Emcee. Spring-themed Selfie Stations presented by Merrifield Garden Center. Sip & Stroll: Sip on your favorite cocktail while shopping at Mosaic! Free and open to the public. Complimentary shuttle service is available from the Dunn Loring Metro Station.
URL:https://www.fcnp.com/event/art-blooms-at-mosaic/
LOCATION:FRESHFARM Mosaic Market\, Fairfax\, VA\, United States
GEO:38.859531;-77.258547
END:VEVENT
END:VCALENDAR