BEGIN:VCALENDAR
VERSION:2.0
PRODID:-//Falls Church News-Press Online - ECPv6.10.1.1//NONSGML v1.0//EN
CALSCALE:GREGORIAN
METHOD:PUBLISH
X-ORIGINAL-URL:https://www.fcnp.com
X-WR-CALDESC:Events for Falls Church News-Press Online
REFRESH-INTERVAL;VALUE=DURATION:PT1H
X-Robots-Tag:noindex
X-PUBLISHED-TTL:PT1H
BEGIN:VTIMEZONE
TZID:America/New_York
BEGIN:DAYLIGHT
TZOFFSETFROM:-0500
TZOFFSETTO:-0400
TZNAME:EDT
DTSTART:20250309T070000
END:DAYLIGHT
BEGIN:STANDARD
TZOFFSETFROM:-0400
TZOFFSETTO:-0500
TZNAME:EST
DTSTART:20251102T060000
END:STANDARD
END:VTIMEZONE
BEGIN:VEVENT
DTSTART;TZID=America/New_York:20250316T130000
DTEND;TZID=America/New_York:20250316T160000
DTSTAMP:20260423T095434
CREATED:20250311T034408Z
LAST-MODIFIED:20250316T052705Z
UID:10000672-1742130000-1742140800@www.fcnp.com
SUMMARY:Falls Church Feeds the World
DESCRIPTION:Christ Crossman UMC will partner with Rise Against Hunger to assemble 20\,000 meals to be packed and shipped around the world to those experiencing food insecurity. Volunteers of all ages are needed! Come have some fun and make a difference in the fight against hunger. Visit christcrossman.org to sign up as a volunteer or to donate towards our fundraising goal. 
URL:https://www.fcnp.com/event/falls-church-feeds-the-world/
LOCATION:Christ Crossman United Methodist Church\, 384 N Washington St\, Falls Church\, VA\, United States
GEO:38.884752;-77.166856
X-APPLE-STRUCTURED-LOCATION;VALUE=URI;X-ADDRESS=Christ Crossman United Methodist Church 384 N Washington St Falls Church VA United States;X-APPLE-RADIUS=500;X-TITLE=384 N Washington St:geo:-77.166856,38.884752
END:VEVENT
END:VCALENDAR